BEGIN:VCALENDAR
VERSION:2.0
PRODID:-//Bledsoe County Rescue - ECPv6.15.20//NONSGML v1.0//EN
CALSCALE:GREGORIAN
METHOD:PUBLISH
X-ORIGINAL-URL:https://bledsoecountyrescue.com
X-WR-CALDESC:Events for Bledsoe County Rescue
REFRESH-INTERVAL;VALUE=DURATION:PT1H
X-Robots-Tag:noindex
X-PUBLISHED-TTL:PT1H
BEGIN:VTIMEZONE
TZID:America/Chicago
BEGIN:DAYLIGHT
TZOFFSETFROM:-0600
TZOFFSETTO:-0500
TZNAME:CDT
DTSTART:20250309T080000
END:DAYLIGHT
BEGIN:STANDARD
TZOFFSETFROM:-0500
TZOFFSETTO:-0600
TZNAME:CST
DTSTART:20251102T070000
END:STANDARD
BEGIN:DAYLIGHT
TZOFFSETFROM:-0600
TZOFFSETTO:-0500
TZNAME:CDT
DTSTART:20260308T080000
END:DAYLIGHT
BEGIN:STANDARD
TZOFFSETFROM:-0500
TZOFFSETTO:-0600
TZNAME:CST
DTSTART:20261101T070000
END:STANDARD
BEGIN:DAYLIGHT
TZOFFSETFROM:-0600
TZOFFSETTO:-0500
TZNAME:CDT
DTSTART:20270314T080000
END:DAYLIGHT
BEGIN:STANDARD
TZOFFSETFROM:-0500
TZOFFSETTO:-0600
TZNAME:CST
DTSTART:20271107T070000
END:STANDARD
END:VTIMEZONE
BEGIN:VEVENT
DTSTART;TZID=America/Chicago:20260801T170000
DTEND;TZID=America/Chicago:20260808T220000
DTSTAMP:20260421T032449
CREATED:20260312T200830Z
LAST-MODIFIED:20260312T200830Z
UID:7571-1785603600-1786226400@bledsoecountyrescue.com
SUMMARY:Bledsoe County Fair
DESCRIPTION:Come see us at The Bledsoe County Fair Concession stand.\nAugust 1st – 8th\, 2026
URL:https://bledsoecountyrescue.com/event/bledsoe-county-fair-2/
ATTACH;FMTTYPE=image/jpeg:https://bledsoecountyrescue.com/wp-content/uploads/2026/03/Screenshot_20260312_145529_Facebook.jpg
END:VEVENT
END:VCALENDAR